BEGIN:VCALENDAR
VERSION:2.0
PRODID:-//Prashtika Mindcare - ECPv6.15.17.1//NONSGML v1.0//EN
CALSCALE:GREGORIAN
METHOD:PUBLISH
X-ORIGINAL-URL:https://prashtikamindcare.com
X-WR-CALDESC:Events for Prashtika Mindcare
REFRESH-INTERVAL;VALUE=DURATION:PT1H
X-Robots-Tag:noindex
X-PUBLISHED-TTL:PT1H
BEGIN:VTIMEZONE
TZID:Asia/Kolkata
BEGIN:STANDARD
TZOFFSETFROM:+0530
TZOFFSETTO:+0530
TZNAME:IST
DTSTART:20250101T000000
END:STANDARD
END:VTIMEZONE
BEGIN:VEVENT
DTSTART;TZID=Asia/Kolkata:20260419T090000
DTEND;TZID=Asia/Kolkata:20260419T120000
DTSTAMP:20260420T215809
CREATED:20260312T132219Z
LAST-MODIFIED:20260315T164032Z
UID:603-1776589200-1776600000@prashtikamindcare.com
SUMMARY:Happy Cycles Workshop
DESCRIPTION:Balance your Emotions • Regulate your Cycles • Reclaim your Inner Harmony \n\n\n\nMany women silently struggle with mood swings\, hormonal imbalance\, emotional stress\, irregular cycles\, and fatigue. these challenges not only affect physical health but also influence confidence\, relationships\, and daily productivity. \n\n\n\nHappy cycles therapy workshop is designed to help women understand the deep connection between the mind\, emotions\, and hormonal balance. using powerful techniques from timeline therapy\, subconscious reprogramming\, and behavioral psychology\, this workshop helps participants release emotional blocks and create a healthier mind–body balance. \n\n\n\n\n\n\n\nWhat will you learn? \n\n\n\n• understanding the mind–hormone connection• how emotions influence menstrual cycles• releasing stored emotional stress from the subconscious mind• simple techniques to stabilize mood swings• improving emotional balance and self-confidence• creating a positive relationship with your body
URL:https://prashtikamindcare.com/upcoming-workshops/happy-cycles-workshop/
LOCATION:62\, KMV Vivaan\,100 feet road\, Enkipadu\, Poranki\, 521108\, Vijayawada\, Vijayawada\, Andhra Pradesh\, 521108\, India
END:VEVENT
BEGIN:VEVENT
DTSTART;TZID=Asia/Kolkata:20260524T090000
DTEND;TZID=Asia/Kolkata:20260524T120000
DTSTAMP:20260420T215809
CREATED:20260312T132630Z
LAST-MODIFIED:20260315T165059Z
UID:605-1779613200-1779624000@prashtikamindcare.com
SUMMARY:Neuro Based Weight Loss Workshop
DESCRIPTION:Reprogram your Brain… Transform your Body \n\n\n\n\n\nMost people think weight loss is only about diet and exercise. but science shows that your brain controls your eating habits\, cravings\, metabolism and motivation. \n\n\n\nOur neuro based weight loss workshop focuses on changing the neurological patterns behind weight gain\, so weight loss becomes natural\, sustainable and stress-free. \n\n\n\nThis workshop helps you retrain your brain\, break emotional eating patterns and create a healthy relationship with food. \n\n\n\nWhat you will learn: \n\n\n\n\nBrain & Weight Connection: Understand how your brain\, emotions and subconscious habits influence your eating behavior. \n\n\n\nCraving Control Techniques: Learn powerful neuro-techniques to reduce cravings for sugar\, rice\, junk food and emotional eating. \n\n\n\nReprogram Subconscious Patterns: Identify and change the hidden beliefs and habits that cause weight gain. \n\n\n\nMind-body Alignment: Use simple mental techniques to align your thoughts\, emotions and body for healthy weight. \n\n\n\nMotivation & Discipline from Within: Activate your internal motivation so healthy eating and movement become effortless. \n\n\n\nStress & Hormonal Balance: Learn how stress affects weight and how to calm your nervous system for better metabolism.
URL:https://prashtikamindcare.com/upcoming-workshops/neuro-based-weight-loss-workshop/
LOCATION:62\, KMV Vivaan\,100 feet road\, Enkipadu\, Poranki\, 521108\, Vijayawada\, Vijayawada\, Andhra Pradesh\, 521108\, India
END:VEVENT
END:VCALENDAR